BEGIN:VCALENDAR
VERSION:2.0
PRODID:-//eventon.com NONSGML v1.0//EN
BEGIN:VEVENT
UID:69e7b1afecbf6
DTSTAMP:20260421T191943
DTSTART:20260329
DTEND:20260329
TZID:UTC
LOCATION:
SUMMARY:AVROTROS Zondag ochtend concert met Jelmer de moed
DESCRIPTION: AVROTROS Zondag ochtend concert met Jelmer de moed\nhttps://www.pieterdekoe.animatokwartet.nl/events/avrotros-zondag-ochtend-concert-met-jelmer-de-moed/
URL:https://www.pieterdekoe.animatokwartet.nl/events/avrotros-zondag-ochtend-concert-met-jelmer-de-moed/
END:VEVENT
END:VCALENDAR